BEGIN:VCALENDAR
VERSION:2.0
PRODID:icalendar-ruby
CALSCALE:GREGORIAN
METHOD:PUBLISH
BEGIN:VEVENT
DTSTAMP:20260423T065757Z
UID:9-295428@hopechurchco.com
DTSTART:20261025T150000Z
DTEND:20261025T170000Z
CLASS:PUBLIC
CREATED:20260422T205452
DESCRIPTION:
LAST-MODIFIED:20260422T205452
LOCATION:
SUMMARY:Experience of faith
URL;VALUE=URI:https://hopechurchco.com/events/experience-of-faith/2026-10-2
 5
ATTACH;FILENAME=453432866_864851032339549_1114607324464061183_n.jpg;FMTTYPE
 =image/jpeg:https://dq5pwpg1q8ru0.cloudfront.net/2024/12/15/01/03/44/a8e6e
 7c1-f71e-48f7-8e83-77db5ccb8d07/453432866_864851032339549_1114607324464061
 183_n.jpg
END:VEVENT
END:VCALENDAR
